BEGIN:VCALENDAR
VERSION:2.0
PRODID:-//Contratero//ES
CALSCALE:GREGORIAN
METHOD:PUBLISH
BEGIN:VEVENT
UID:EA24 022@contratero.es
DTSTAMP:20260421T020501Z
DTSTART:20241226T235959
DTEND:20241227T005959
SUMMARY:Cierre: Contrato mantenimiento de licencias de usuario del
DESCRIPTION:Contrato mantenimiento de licencias de usuario del ERP SAP S/4HANA de Extremadura Avante S.L.U.\\n\\nOrganismo: Dirección General de Extremadura Avante S.L.U.\\n\\nVer en Contratero: https://contratero.es/contracts/EA24 022
URL:https://contratero.es/contracts/EA24 022
STATUS:CONFIRMED
BEGIN:VALARM
TRIGGER:-P1D
ACTION:DISPLAY
DESCRIPTION:Recordatorio: Contrato mantenimiento de lice
END:VALARM
END:VEVENT
END:VCALENDAR